BEGIN:VCALENDAR
PRODID:http://www.kufer.de/kuferweb / DE
VERSION:2.0
METHOD:PUBLISH
CALSCALE:GREGORIAN
X-WR-TIMEZONE:Europe/Berlin
BEGIN:VTIMEZONE
TZID:Europe/Berlin
X-LIC-LOCATION:Europe/Berlin
BEGIN:DAYLIGHT
TZOFFSETFROM:+0100
TZOFFSETTO:+0200
TZNAME:CEST
DTSTART;TZID=Europe/Berlin:19700329T020000
RRULE:FREQ=YEARLY;INTERVAL=1;BYDAY=-1SU;BYMONTH=3
END:DAYLIGHT
BEGIN:STANDARD
TZOFFSETFROM:+0200
TZOFFSETTO:+0100
TZNAME:CET
DTSTART;TZID=Europe/Berlin:19701025T030000
RRULE:FREQ=YEARLY;INTERVAL=1;BYDAY=-1SU;BYMONTH=10
END:STANDARD
END:VTIMEZONE
BEGIN:VEVENT
DTSTAMP:20260424T120549
DTSTART;TZID=Europe/Berlin:20260831T090000
DTEND;TZID=Europe/Berlin:20260831T160000
UID:26KT018-20260831T090000@DWDIAKONIE PFALZ
SUMMARY:Kita +QM – Grundsätze im QM: Führungsprozesse (26KT018) 
LOCATION:online, online, Zoom-Meeting
END:VEVENT
BEGIN:VEVENT
DTSTAMP:20260424T120549
DTSTART;TZID=Europe/Berlin:20260901T090000
DTEND;TZID=Europe/Berlin:20260901T160000
UID:26KT018-20260901T090000@DWDIAKONIE PFALZ
SUMMARY:Kita +QM – Grundsätze im QM: Führungsprozesse (26KT018) 
LOCATION:online, online, Zoom-Meeting
END:VEVENT
BEGIN:VEVENT
DTSTAMP:20260424T120549
DTSTART;TZID=Europe/Berlin:20261019T090000
DTEND;TZID=Europe/Berlin:20261019T160000
UID:26KT018-20261019T090000@DWDIAKONIE PFALZ
SUMMARY:Kita +QM – Grundsätze im QM: Führungsprozesse (26KT018) 
LOCATION:online, online, Zoom-Meeting
END:VEVENT
BEGIN:VEVENT
DTSTAMP:20260424T120549
DTSTART;TZID=Europe/Berlin:20261020T090000
DTEND;TZID=Europe/Berlin:20261020T160000
UID:26KT018-20261020T090000@DWDIAKONIE PFALZ
SUMMARY:Kita +QM – Grundsätze im QM: Führungsprozesse (26KT018) 
LOCATION:online, online, Zoom-Meeting
END:VEVENT
BEGIN:VEVENT
DTSTAMP:20260424T120549
DTSTART;TZID=Europe/Berlin:20261123T090000
DTEND;TZID=Europe/Berlin:20261123T160000
UID:26KT018-20261123T090000@DWDIAKONIE PFALZ
SUMMARY:Kita +QM – Grundsätze im QM: Führungsprozesse (26KT018) 
LOCATION:online, online, Zoom-Meeting
END:VEVENT
END:VCALENDAR